BEGIN:VCALENDAR
VERSION:2.0
PRODID:-//Squarespace Inc/Squarespace 6//v6//EN
BEGIN:VEVENT
UID:5bf37d6f575d1ffaf4326b04@squarespace.com
DTSTAMP:20201216T030109Z
DTSTART:20210201T113000Z
DTEND:20210201T173000Z
SUMMARY:Hunua Ranges - Date TBC
END:VEVENT
END:VCALENDAR
