BEGIN:VCALENDAR
VERSION:2.0
PRODID:-//Squarespace Inc/Squarespace 6//v6//EN
BEGIN:VEVENT
UID:5bf39b1740ec9abcd83b929f@squarespace.com
DTSTAMP:20201216T025853Z
DTSTART:20210201T113000Z
DTEND:20210201T173000Z
SUMMARY:Riverhead Forest - Date TBC
END:VEVENT
END:VCALENDAR
