BEGIN:VCALENDAR
VERSION:2.0
PRODID:-//Squarespace Inc/Squarespace 6//v6//EN
BEGIN:VEVENT
UID:5bf3799c352f53a4d8a3c489@squarespace.com
DTSTAMP:20201216T030053Z
DTSTART:20210201T113000Z
DTEND:20210201T173000Z
SUMMARY:Shakespear Regional Park - Date TBC
GEO:-36.614106;174.821308
LOCATION:Shakespear Regional Park
END:VEVENT
END:VCALENDAR
