BEGIN:VCALENDAR
VERSION:2.0
PRODID:-//Squarespace Inc/Squarespace 6//v6//EN
BEGIN:VEVENT
UID:5bf398861ae6cfcc40a5671e@squarespace.com
DTSTAMP:20201216T025940Z
DTSTART:20210201T113000Z
DTEND:20210201T173000Z
SUMMARY:Totara Park - DATE TBC
END:VEVENT
END:VCALENDAR
