BEGIN:VCALENDAR
VERSION:2.0
PRODID:-//Squarespace Inc/Squarespace 6//v6//EN
BEGIN:VEVENT
UID:5bf37b3f562fa7bd2521610c@squarespace.com
DTSTAMP:20201216T030013Z
DTSTART:20210201T113000Z
DTEND:20210201T183000Z
SUMMARY:Waitawa Regional Park - Date TBC
GEO:-36.938238;175.140304
LOCATION:Waitawa Regional Park\, NEw Zealand
END:VEVENT
END:VCALENDAR
