BEGIN:VCALENDAR
VERSION:2.0
PRODID:-//Squarespace Inc/Squarespace 6//v6//EN
BEGIN:VEVENT
UID:5bf382ba70a6ad046bc08dbd@squarespace.com
DTSTAMP:20201216T025919Z
DTSTART:20210201T113000Z
DTEND:20210201T173000Z
SUMMARY:Waiuku Forest - DATE TBC
END:VEVENT
END:VCALENDAR
